BEGIN:VCALENDAR
VERSION:2.0
PRODID:-//hacksw/handcal//NONSGML v1.0//EN
CALSCALE:GREGORIAN
METHOD:PUBLISH
BEGIN:VEVENT
DTEND:20210303T113000Z
UID:60399baf33dc8
DTSTAMP:20210227T010903Z
LOCATION:Masonic Worksheets
DESCRIPTION:
URL;VALUE=URI:worksheets.slaters.id.au
SUMMARY:Young Burrangong No. 20
DTSTART:20210303T083000Z
END:VEVENT
END:VCALENDAR