BEGIN:VCALENDAR
VERSION:2.0
PRODID:-//hacksw/handcal//NONSGML v1.0//EN
CALSCALE:GREGORIAN
METHOD:PUBLISH
BEGIN:VEVENT
DTEND:20210304T113000Z
UID:6039a1198ad0a
DTSTAMP:20210227T013209Z
LOCATION:Masonic Worksheets
DESCRIPTION:
URL;VALUE=URI:worksheets.slaters.id.au
SUMMARY:Lodge Barham No. 561
DTSTART:20210304T083000Z
END:VEVENT
END:VCALENDAR