BEGIN:VCALENDAR
VERSION:2.0
PRODID:-//hacksw/handcal//NONSGML v1.0//EN
CALSCALE:GREGORIAN
METHOD:PUBLISH
BEGIN:VEVENT
DTEND:20210305T113000Z
UID:60399872a0390
DTSTAMP:20210227T005514Z
LOCATION:Masonic Worksheets
DESCRIPTION:
URL;VALUE=URI:worksheets.slaters.id.au
SUMMARY:Lodge Ibis No. 361
DTSTART:20210305T083000Z
END:VEVENT
END:VCALENDAR