BEGIN:VCALENDAR
VERSION:2.0
PRODID:-//hacksw/handcal//NONSGML v1.0//EN
CALSCALE:GREGORIAN
METHOD:PUBLISH
BEGIN:VEVENT
DTEND:20210306T110000Z
UID:60399be70e366
DTSTAMP:20210227T010959Z
LOCATION:Masonic Worksheets
DESCRIPTION:
URL;VALUE=URI:worksheets.slaters.id.au
SUMMARY:Installation | Young Burrangong No. 20
DTSTART:20210306T053000Z
END:VEVENT
END:VCALENDAR