BEGIN:VCALENDAR
VERSION:2.0
PRODID:-//hacksw/handcal//NONSGML v1.0//EN
CALSCALE:GREGORIAN
METHOD:PUBLISH
BEGIN:VEVENT
DTEND:20210306T113000Z
UID:6039a2ad6739b
DTSTAMP:20210227T013853Z
LOCATION:Masonic Worksheets
DESCRIPTION:
URL;VALUE=URI:worksheets.slaters.id.au
SUMMARY:Lodge Blackheath No. 370
DTSTART:20210306T083000Z
END:VEVENT
END:VCALENDAR