BEGIN:VCALENDAR
VERSION:2.0
PRODID:-//hacksw/handcal//NONSGML v1.0//EN
CALSCALE:GREGORIAN
METHOD:PUBLISH
BEGIN:VEVENT
DTEND:20210308T113000Z
UID:603999b26a7d0
DTSTAMP:20210227T010034Z
LOCATION:Masonic Worksheets
DESCRIPTION:
URL;VALUE=URI:worksheets.slaters.id.au
SUMMARY:Lodge Riverina Thompson No. 104
DTSTART:20210308T083000Z
END:VEVENT
END:VCALENDAR