BEGIN:VCALENDAR
VERSION:2.0
PRODID:-//hacksw/handcal//NONSGML v1.0//EN
CALSCALE:GREGORIAN
METHOD:PUBLISH
BEGIN:VEVENT
DTEND:20210309T113000Z
UID:60399f33c2b6d
DTSTAMP:20210227T012403Z
LOCATION:Masonic Worksheets
DESCRIPTION:
URL;VALUE=URI:worksheets.slaters.id.au
SUMMARY:Lodge Cowra No. 33
DTSTART:20210309T083000Z
END:VEVENT
END:VCALENDAR