BEGIN:VCALENDAR
VERSION:2.0
PRODID:-//hacksw/handcal//NONSGML v1.0//EN
CALSCALE:GREGORIAN
METHOD:PUBLISH
BEGIN:VEVENT
DTEND:20210312T113000Z
UID:603998082c660
DTSTAMP:20210227T005328Z
LOCATION:Masonic Worksheets
DESCRIPTION:
URL;VALUE=URI:worksheets.slaters.id.au
SUMMARY:Lodge Leeton-Yanco No. 313
DTSTART:20210312T083000Z
END:VEVENT
END:VCALENDAR