BEGIN:VCALENDAR
VERSION:2.0
PRODID:-//hacksw/handcal//NONSGML v1.0//EN
CALSCALE:GREGORIAN
METHOD:PUBLISH
BEGIN:VEVENT
DTEND:20210313T113000Z
UID:60399f9e96e57
DTSTAMP:20210227T012550Z
LOCATION:Masonic Worksheets
DESCRIPTION:
URL;VALUE=URI:worksheets.slaters.id.au
SUMMARY:Lodge Carringtonia No. 17
DTSTART:20210313T083000Z
END:VEVENT
END:VCALENDAR