BEGIN:VCALENDAR
VERSION:2.0
PRODID:-//hacksw/handcal//NONSGML v1.0//EN
CALSCALE:GREGORIAN
METHOD:PUBLISH
BEGIN:VEVENT
DTEND:20210317T113000Z
UID:6039a1db48eba
DTSTAMP:20210227T013523Z
LOCATION:Masonic Worksheets
DESCRIPTION:
URL;VALUE=URI:worksheets.slaters.id.au
SUMMARY:Lodge Independent Lewis No. 346
DTSTART:20210317T083000Z
END:VEVENT
END:VCALENDAR