BEGIN:VCALENDAR
VERSION:2.0
PRODID:-//hacksw/handcal//NONSGML v1.0//EN
CALSCALE:GREGORIAN
METHOD:PUBLISH
BEGIN:VEVENT
DTEND:20210319T093000Z
UID:6039a174ca4ef
DTSTAMP:20210227T013340Z
LOCATION:Masonic Worksheets
DESCRIPTION:
URL;VALUE=URI:worksheets.slaters.id.au
SUMMARY:Lodge Central Tablelands No. 1043
DTSTART:20210319T083000Z
END:VEVENT
END:VCALENDAR