BEGIN:VCALENDAR
VERSION:2.0
PRODID:-//hacksw/handcal//NONSGML v1.0//EN
CALSCALE:GREGORIAN
METHOD:PUBLISH
BEGIN:VEVENT
DTEND:20210324T104500Z
UID:60399b47e5553
DTSTAMP:20210227T010719Z
LOCATION:Masonic Worksheets
DESCRIPTION:
URL;VALUE=URI:worksheets.slaters.id.au
SUMMARY:Yass Lodge of Concord No. 27
DTSTART:20210324T074500Z
END:VEVENT
END:VCALENDAR