BEGIN:VCALENDAR
VERSION:2.0
PRODID:-//hacksw/handcal//NONSGML v1.0//EN
CALSCALE:GREGORIAN
METHOD:PUBLISH
BEGIN:VEVENT
DTEND:20210324T113000Z
UID:603998dc926b9
DTSTAMP:20210227T005700Z
LOCATION:Masonic Worksheets
DESCRIPTION:
URL;VALUE=URI:worksheets.slaters.id.au
SUMMARY:Lodge St John&#039;s No. 16
DTSTART:20210324T083000Z
END:VEVENT
END:VCALENDAR