BEGIN:VCALENDAR
VERSION:2.0
PRODID:-//hacksw/handcal//NONSGML v1.0//EN
CALSCALE:GREGORIAN
METHOD:PUBLISH
BEGIN:VEVENT
DTEND:20210324T113000Z
UID:60399e669a616
DTSTAMP:20210227T012038Z
LOCATION:Masonic Worksheets
DESCRIPTION:
URL;VALUE=URI:worksheets.slaters.id.au
SUMMARY:The Goldfields Lodge No. 40
DTSTART:20210324T083000Z
END:VEVENT
END:VCALENDAR