BEGIN:VCALENDAR
VERSION:2.0
PRODID:-//hacksw/handcal//NONSGML v1.0//EN
CALSCALE:GREGORIAN
METHOD:PUBLISH
BEGIN:VEVENT
DTEND:20210408T113000Z
UID:60399d0bd2205
DTSTAMP:20210227T011451Z
LOCATION:Masonic Worksheets
DESCRIPTION:
URL;VALUE=URI:worksheets.slaters.id.au
SUMMARY:Lodge Federal United No. 193
DTSTART:20210408T083000Z
END:VEVENT
END:VCALENDAR