BEGIN:VCALENDAR
VERSION:2.0
PRODID:-//hacksw/handcal//NONSGML v1.0//EN
CALSCALE:GREGORIAN
METHOD:PUBLISH
BEGIN:VEVENT
DTEND:20210410T110000Z
UID:60399a4093051
DTSTAMP:20210227T010256Z
LOCATION:Masonic Worksheets
DESCRIPTION:
URL;VALUE=URI:worksheets.slaters.id.au
SUMMARY:Installation | Wagga Wagga Lodge No. 22
DTSTART:20210410T053000Z
END:VEVENT
END:VCALENDAR