BEGIN:VCALENDAR
VERSION:2.0
PRODID:-//hacksw/handcal//NONSGML v1.0//EN
CALSCALE:GREGORIAN
METHOD:PUBLISH
BEGIN:VEVENT
DTEND:20210501T110000Z
UID:60399b10a8431
DTSTAMP:20210227T010624Z
LOCATION:Masonic Worksheets
DESCRIPTION:
URL;VALUE=URI:worksheets.slaters.id.au
SUMMARY:Installation | Gundagai United No. 25
DTSTART:20210501T053000Z
END:VEVENT
END:VCALENDAR