BEGIN:VCALENDAR
VERSION:2.0
PRODID:-//hacksw/handcal//NONSGML v1.0//EN
CALSCALE:GREGORIAN
METHOD:PUBLISH
BEGIN:VEVENT
DTEND:20210710T110000Z
UID:603999e506ec4
DTSTAMP:20210227T010125Z
LOCATION:Masonic Worksheets
DESCRIPTION:
URL;VALUE=URI:worksheets.slaters.id.au
SUMMARY:Installation | Lodge Riverina Thompson No. 104
DTSTART:20210710T053000Z
END:VEVENT
END:VCALENDAR