BEGIN:VCALENDAR
VERSION:2.0
PRODID:-//hacksw/handcal//NONSGML v1.0//EN
CALSCALE:GREGORIAN
METHOD:PUBLISH
BEGIN:VEVENT
DTEND:20210821T110000Z
UID:60399b7b7de3d
DTSTAMP:20210227T010811Z
LOCATION:Masonic Worksheets
DESCRIPTION:
URL;VALUE=URI:worksheets.slaters.id.au
SUMMARY:Installation | Yass Lodge of Concord No. 27
DTSTART:20210821T053000Z
END:VEVENT
END:VCALENDAR