BEGIN:VCALENDAR
VERSION:2.0
PRODID:-//hacksw/handcal//NONSGML v1.0//EN
CALSCALE:GREGORIAN
METHOD:PUBLISH
BEGIN:VEVENT
DTEND:20210911T110000Z
UID:6039983c73db5
DTSTAMP:20210227T005420Z
LOCATION:Masonic Worksheets
DESCRIPTION:
URL;VALUE=URI:worksheets.slaters.id.au
SUMMARY:Installation | Lodge Leeton-Yanco No. 313
DTSTART:20210911T053000Z
END:VEVENT
END:VCALENDAR