BEGIN:VCALENDAR
VERSION:2.0
PRODID:-//hacksw/handcal//NONSGML v1.0//EN
CALSCALE:GREGORIAN
METHOD:PUBLISH
BEGIN:VEVENT
DTEND:20210918T110000Z
UID:6039a0e46a883
DTSTAMP:20210227T013116Z
LOCATION:Masonic Worksheets
DESCRIPTION:
URL;VALUE=URI:worksheets.slaters.id.au
SUMMARY:Installation | Lodge Bathurst United No. 79
DTSTART:20210918T053000Z
END:VEVENT
END:VCALENDAR