BEGIN:VCALENDAR
VERSION:2.0
PRODID:-//hacksw/handcal//NONSGML v1.0//EN
CALSCALE:GREGORIAN
METHOD:PUBLISH
BEGIN:VEVENT
DTEND:20211009T110000Z
UID:60399f69d9bda
DTSTAMP:20210227T012457Z
LOCATION:Masonic Worksheets
DESCRIPTION:
URL;VALUE=URI:worksheets.slaters.id.au
SUMMARY:Installation | Lodge Cowra No. 33
DTSTART:20211009T053000Z
END:VEVENT
END:VCALENDAR