BEGIN:VCALENDAR
VERSION:2.0
PRODID:-//hacksw/handcal//NONSGML v1.0//EN
CALSCALE:GREGORIAN
METHOD:PUBLISH
BEGIN:VEVENT
DTEND:20211120T063000Z
UID:6039a1a732946
DTSTAMP:20210227T013431Z
LOCATION:Masonic Worksheets
DESCRIPTION:
URL;VALUE=URI:worksheets.slaters.id.au
SUMMARY:Installation | Lodge Central Tablelands No. 1043
DTSTART:20211120T053000Z
END:VEVENT
END:VCALENDAR